BEGIN:VCALENDAR
VERSION:2.0
PRODID:-//Bernd Gerke - ECPv6.7.0//NONSGML v1.0//EN
CALSCALE:GREGORIAN
METHOD:PUBLISH
X-WR-CALNAME:Bernd Gerke
X-ORIGINAL-URL:https://www.berndgerke.de
X-WR-CALDESC:Veranstaltungen für Bernd Gerke
REFRESH-INTERVAL;VALUE=DURATION:PT1H
X-Robots-Tag:noindex
X-PUBLISHED-TTL:PT1H
BEGIN:VTIMEZONE
TZID:Europe/Helsinki
BEGIN:DAYLIGHT
TZOFFSETFROM:+0200
TZOFFSETTO:+0300
TZNAME:EEST
DTSTART:20190331T010000
END:DAYLIGHT
BEGIN:STANDARD
TZOFFSETFROM:+0300
TZOFFSETTO:+0200
TZNAME:EET
DTSTART:20191027T010000
END:STANDARD
END:VTIMEZONE
BEGIN:VEVENT
DTSTART;TZID=Europe/Helsinki:20190625T180000
DTEND;TZID=Europe/Helsinki:20190625T210000
DTSTAMP:20260419T194505
CREATED:20181220T191840Z
LAST-MODIFIED:20181220T191840Z
UID:1251-1561485600-1561496400@www.berndgerke.de
SUMMARY:Mein Leben nach dem Unfall. Der Tod ist nicht das Ende. Vortragsabend mit Pause in Dortmund.
DESCRIPTION:Im Vortrag erzähle ich über Lebendigkeit\, über Leben und Tod im Zusammenhang und über die Seelenentwicklungsstufen bis zum Glück. \nIch berichte über Aspekte der aktuellen Nahtodforschung und darüber\, was viele Menschen am Ende ihres Lebens bereuen – damit wir es fröhlich anpacken können und später selbst möglichst nicht bereuen müssen. Ich erzähle über die vielfältigen und spannenden Erlebnisse von Menschen\, die ich während meiner Vorträge und Veranstaltungen getroffen habe und über meine eigenen Erfahrungen. \nAnmeldung bei: Maren Willke\,  mwillke@nullstadtteilschule.de\,  0231 – 58693872
URL:https://www.berndgerke.de/event/mein-leben-nach-dem-unfall-der-tod-ist-nicht-das-ende-vortragsabend-mit-pause-in-dortmund/
LOCATION:Bildungswerk Stadtteil-Schule\, Bornstr. 83\, Dortmund\, 44145
CATEGORIES:Der Tod ist nicht das Ende,Vortrag öffentlich
ATTACH;FMTTYPE=image/png:https://www.berndgerke.de/wp-content/uploads/2019/01/yinyang-e1546784805912.png
END:VEVENT
END:VCALENDAR