BEGIN:VCALENDAR
VERSION:2.0
PRODID:-//Bernd Gerke - ECPv6.7.0//NONSGML v1.0//EN
CALSCALE:GREGORIAN
METHOD:PUBLISH
X-WR-CALNAME:Bernd Gerke
X-ORIGINAL-URL:https://www.berndgerke.de
X-WR-CALDESC:Veranstaltungen für Bernd Gerke
REFRESH-INTERVAL;VALUE=DURATION:PT1H
X-Robots-Tag:noindex
X-PUBLISHED-TTL:PT1H
BEGIN:VTIMEZONE
TZID:Europe/Helsinki
BEGIN:DAYLIGHT
TZOFFSETFROM:+0200
TZOFFSETTO:+0300
TZNAME:EEST
DTSTART:20190331T010000
END:DAYLIGHT
BEGIN:STANDARD
TZOFFSETFROM:+0300
TZOFFSETTO:+0200
TZNAME:EET
DTSTART:20191027T010000
END:STANDARD
END:VTIMEZONE
BEGIN:VEVENT
DTSTART;TZID=Europe/Helsinki:20190701T190000
DTEND;TZID=Europe/Helsinki:20190701T210000
DTSTAMP:20260419T194504
CREATED:20190613T202323Z
LAST-MODIFIED:20190613T202323Z
UID:1360-1562007600-1562014800@www.berndgerke.de
SUMMARY:Informationsabend Aura Sehen Grundkurs nach Rainer Strücker in Pulheim bei Köln
DESCRIPTION:In der Grundausbildung Aura Sehen werden Übungen gezeigt und besprochen\, die helfen\, dass jeder seine persönliche Kraft erhöhen\, einengende Gedankenkonzepte erkennen und Blockaden auflösen kann. In dem Maße\, wie man das eigene Wesen erkennt und entwickelt\, erweitert sich auch die Wahrnehmung. Diese Entwicklung ist eine zutiefst persönliche. \nDiese einjährige Grundausbildung Aura Sehen nach Rainer Strücker beginnt mit einem einführenden Wochenendseminar am 13./14. Juli 2019 in Pulheim. Am Samstag findet der Kurs von 10.00 bis 18.00 Uhr statt und am Sonntag von 10.00 bis ca. 15.00 Uhr. Es folgen dann in monatlichem Abstand 10 Kurstage\, jeweils an einem Samstag oder an einem Sonntag von 10.00 bis ca. 18.00 Uhr. \nFür Interessierte findet eine unverbindliche Informationsveranstaltung statt: Montag\, den 1. Juli 2019 um 19.00 – 21.00 Uhr im AllerleyRaum bei Sylvia Götting\, Blumenstr. 9\, 50259 Pulheim. Während des Informationsabends haben Sie die Gelegenheit alle ihre Fragen zur Grundausbildung Aura Sehen zu stellen. Bitte melden Sie sich zum Infoabend kurz telefonisch unter 01575-1541125 an\, damit wir die Bestuhlung für die Veranstaltung planen können! Für die spätere Grundausbildung Aura Sehen ist eine schriftliche Anmeldung erforderlich. Der Teilnahmebeitrag ist bei Kursbeginn zahlbar und beträgt für das gesamte Jahr € 980\,00.
URL:https://www.berndgerke.de/event/informationsabend-aura-sehen-grundkurs-nach-rainer-struecker-in-pulheim-bei-koeln/
LOCATION:AllerleyRaum Sylvia Götting\, Blumenstr. 9\, Pulheim\, NRW\, 50259\, Deutschland
CATEGORIES:Aurainfo,Vortrag öffentlich
ATTACH;FMTTYPE=image/jpeg:https://www.berndgerke.de/wp-content/uploads/2017/10/Bernd-Gerke-Panarbora-Waldbröl-e1547492940589.jpg
ORGANIZER;CN="Bernd Gerke":MAILTO:info@berndgerke.de
END:VEVENT
END:VCALENDAR